BEGIN:VCALENDAR
VERSION:2.0
PRODID:-//tandcschool.org//NONSGML kigkonsult.se iCalcreator 2.30.10//
CALSCALE:GREGORIAN
METHOD:PUBLISH
UID:b84f496d-5f30-47a7-b941-1734488e09ef
X-WR-CALDESC:
X-WR-RELCALID:28af5654e8403eae2ddbff5058776eb9
X-WR-TIMEZONE:America/Chicago
BEGIN:VTIMEZONE
TZID:America/Chicago
BEGIN:STANDARD
TZNAME:CST
DTSTART:20221106T020000
TZOFFSETFROM:-0500
TZOFFSETTO:-0600
RDATE:20231105T020000
RDATE:20241103T020000
END:STANDARD
BEGIN:DAYLIGHT
TZNAME:CDT
DTSTART:20230312T020000
TZOFFSETFROM:-0600
TZOFFSETTO:-0500
RDATE:20240310T020000
RDATE:20250309T020000
END:DAYLIGHT
END:VTIMEZONE
BEGIN:VEVENT
UID:d5ba6e02-f6fb-4af9-8b90-bd9022f40a75
DTSTAMP:20260424T113438Z
DESCRIPTION:
DTSTART;TZID=America/Chicago:20231003T153000
DTEND;TZID=America/Chicago:20231003T163000
LOCATION:
SUMMARY:Cooking Class B
END:VEVENT
END:VCALENDAR
