BEGIN:VCALENDAR
VERSION:2.0
PRODID:-//tandcschool.org//NONSGML kigkonsult.se iCalcreator 2.30.10//
CALSCALE:GREGORIAN
METHOD:PUBLISH
UID:29725070-7583-4e1f-83e2-e4cd5e08f770
X-WR-CALDESC:
X-WR-RELCALID:96f26f37e26ec36f271d35ed7ed4a5ba
X-WR-TIMEZONE:America/Chicago
BEGIN:VTIMEZONE
TZID:America/Chicago
BEGIN:STANDARD
TZNAME:CST
DTSTART:20221106T020000
TZOFFSETFROM:-0500
TZOFFSETTO:-0600
RDATE:20231105T020000
RDATE:20241103T020000
END:STANDARD
BEGIN:DAYLIGHT
TZNAME:CDT
DTSTART:20230312T020000
TZOFFSETFROM:-0600
TZOFFSETTO:-0500
RDATE:20240310T020000
RDATE:20250309T020000
END:DAYLIGHT
END:VTIMEZONE
BEGIN:VEVENT
UID:610a8529-3da6-4964-8804-d451934788e1
DTSTAMP:20260424T114323Z
DESCRIPTION:
DTSTART;TZID=America/Chicago:20231003T150000
DTEND;TZID=America/Chicago:20231003T154500
LOCATION:
SUMMARY:HS Running Club
END:VEVENT
END:VCALENDAR
