BEGIN:VCALENDAR
VERSION:2.0
PRODID:-//tandcschool.org//NONSGML kigkonsult.se iCalcreator 2.30.10//
CALSCALE:GREGORIAN
METHOD:PUBLISH
UID:520eab15-a2a4-4cd2-9782-22da8c1fdca9
X-WR-CALDESC:
X-WR-RELCALID:634a8cb3b4fc8b15c87237226629f32f
X-WR-TIMEZONE:America/Chicago
BEGIN:VTIMEZONE
TZID:America/Chicago
BEGIN:STANDARD
TZNAME:CST
DTSTART:20221106T020000
TZOFFSETFROM:-0500
TZOFFSETTO:-0600
RDATE:20231105T020000
RDATE:20241103T020000
END:STANDARD
BEGIN:DAYLIGHT
TZNAME:CDT
DTSTART:20230312T020000
TZOFFSETFROM:-0600
TZOFFSETTO:-0500
RDATE:20240310T020000
RDATE:20250309T020000
END:DAYLIGHT
END:VTIMEZONE
BEGIN:VEVENT
UID:29f78241-f5f3-4ad5-9b3a-ab375d155c19
DTSTAMP:20260424T113152Z
DESCRIPTION:
DTSTART;TZID=America/Chicago:20231002T150000
DTEND;TZID=America/Chicago:20231002T154500
LOCATION:
SUMMARY:Cheer
END:VEVENT
END:VCALENDAR
