BEGIN:VCALENDAR
VERSION:2.0
PRODID:-//tandcschool.org//NONSGML kigkonsult.se iCalcreator 2.30.10//
CALSCALE:GREGORIAN
METHOD:PUBLISH
UID:162fbd8e-0bc6-492e-bb5a-e972c8c542b0
X-WR-CALDESC:LS Dismiss at 12PM\nUS Dismiss at 12:25PM\nNo Aftercare
X-WR-RELCALID:6da960b9c6ab19b70766d4030eed93e9
X-WR-TIMEZONE:America/Chicago
BEGIN:VTIMEZONE
TZID:America/Chicago
BEGIN:STANDARD
TZNAME:CST
DTSTART:20221106T020000
TZOFFSETFROM:-0500
TZOFFSETTO:-0600
RDATE:20231105T020000
RDATE:20241103T020000
END:STANDARD
BEGIN:DAYLIGHT
TZNAME:CDT
DTSTART:20230312T020000
TZOFFSETFROM:-0600
TZOFFSETTO:-0500
RDATE:20240310T020000
RDATE:20250309T020000
END:DAYLIGHT
END:VTIMEZONE
BEGIN:VEVENT
UID:4aa0f020-cf9f-4ece-8d91-acc1a443d776
DTSTAMP:20260424T131807Z
DESCRIPTION:LS Dismiss at 12PM\nUS Dismiss at 12:25PM\nNo Aftercare
DTSTART;TZID=America/Chicago:20230929T000000
DTEND;TZID=America/Chicago:20230929T235900
LOCATION:
SUMMARY:Half Day
END:VEVENT
END:VCALENDAR
