BEGIN:VCALENDAR
VERSION:2.0
PRODID:-//tandcschool.org//NONSGML kigkonsult.se iCalcreator 2.30.10//
CALSCALE:GREGORIAN
METHOD:PUBLISH
UID:badcdfb9-6f1c-4739-85c1-5eadfb46f211
X-WR-CALDESC:
X-WR-RELCALID:b9f73fee8bb813271a08f7c7fb5e583f
X-WR-TIMEZONE:America/Chicago
BEGIN:VTIMEZONE
TZID:America/Chicago
BEGIN:STANDARD
TZNAME:CST
DTSTART:20221106T020000
TZOFFSETFROM:-0500
TZOFFSETTO:-0600
RDATE:20231105T020000
RDATE:20241103T020000
END:STANDARD
BEGIN:DAYLIGHT
TZNAME:CDT
DTSTART:20230312T020000
TZOFFSETFROM:-0600
TZOFFSETTO:-0500
RDATE:20240310T020000
RDATE:20250309T020000
END:DAYLIGHT
END:VTIMEZONE
BEGIN:VEVENT
UID:4d26ff9b-99ad-4bc7-aa49-e5401ae8318d
DTSTAMP:20260424T132658Z
DESCRIPTION:
DTSTART;TZID=America/Chicago:20230928T150000
DTEND;TZID=America/Chicago:20230928T154500
LOCATION:
SUMMARY:Crochet Club
END:VEVENT
END:VCALENDAR
