BEGIN:VCALENDAR
VERSION:2.0
PRODID:-//tandcschool.org//NONSGML kigkonsult.se iCalcreator 2.30.10//
CALSCALE:GREGORIAN
METHOD:PUBLISH
UID:780a9f99-c505-40b7-b628-5acb70764fec
X-WR-CALDESC:
X-WR-RELCALID:bdeb5cefef831d482f00a50aa6abd083
X-WR-TIMEZONE:America/Chicago
BEGIN:VTIMEZONE
TZID:America/Chicago
BEGIN:STANDARD
TZNAME:CST
DTSTART:20221106T020000
TZOFFSETFROM:-0500
TZOFFSETTO:-0600
RDATE:20231105T020000
RDATE:20241103T020000
END:STANDARD
BEGIN:DAYLIGHT
TZNAME:CDT
DTSTART:20230312T020000
TZOFFSETFROM:-0600
TZOFFSETTO:-0500
RDATE:20240310T020000
RDATE:20250309T020000
END:DAYLIGHT
END:VTIMEZONE
BEGIN:VEVENT
UID:6133f912-5126-401c-902d-3977773929e6
DTSTAMP:20260424T132039Z
DESCRIPTION:
DTSTART;TZID=America/Chicago:20230927T000000
DTEND;TZID=America/Chicago:20230927T235900
LOCATION:
SUMMARY:Student Cooking Workshops with Building Blocks Matter Project
END:VEVENT
END:VCALENDAR
