BEGIN:VCALENDAR
VERSION:2.0
PRODID:-//tandcschool.org//NONSGML kigkonsult.se iCalcreator 2.30.10//
CALSCALE:GREGORIAN
METHOD:PUBLISH
UID:92337d89-6c9b-4b0d-8d2b-281783aed441
X-WR-CALDESC:
X-WR-RELCALID:1249c0a26b167c04751a46d1d96f5f1b
X-WR-TIMEZONE:America/Chicago
BEGIN:VTIMEZONE
TZID:America/Chicago
BEGIN:STANDARD
TZNAME:CST
DTSTART:20221106T020000
TZOFFSETFROM:-0500
TZOFFSETTO:-0600
RDATE:20231105T020000
RDATE:20241103T020000
END:STANDARD
BEGIN:DAYLIGHT
TZNAME:CDT
DTSTART:20230312T020000
TZOFFSETFROM:-0600
TZOFFSETTO:-0500
RDATE:20240310T020000
RDATE:20250309T020000
END:DAYLIGHT
END:VTIMEZONE
BEGIN:VEVENT
UID:ce033c59-c137-404c-abff-bc5af45fbf21
DTSTAMP:20260424T132333Z
DESCRIPTION:
DTSTART;TZID=America/Chicago:20230927T152000
DTEND;TZID=America/Chicago:20230927T160000
LOCATION:
SUMMARY:Production Club B
END:VEVENT
END:VCALENDAR
