BEGIN:VCALENDAR
VERSION:2.0
PRODID:-//tandcschool.org//NONSGML kigkonsult.se iCalcreator 2.30.10//
CALSCALE:GREGORIAN
METHOD:PUBLISH
UID:7b9fd192-6cf3-4038-a5d1-c9612c1dc18b
X-WR-CALDESC:
X-WR-RELCALID:8c34b1665218d50c712a315e118c2d90
X-WR-TIMEZONE:America/Chicago
BEGIN:VTIMEZONE
TZID:America/Chicago
BEGIN:STANDARD
TZNAME:CST
DTSTART:20221106T020000
TZOFFSETFROM:-0500
TZOFFSETTO:-0600
RDATE:20231105T020000
RDATE:20241103T020000
END:STANDARD
BEGIN:DAYLIGHT
TZNAME:CDT
DTSTART:20230312T020000
TZOFFSETFROM:-0600
TZOFFSETTO:-0500
RDATE:20240310T020000
RDATE:20250309T020000
END:DAYLIGHT
END:VTIMEZONE
BEGIN:VEVENT
UID:44acc774-434a-443c-94dc-16f6a56a072e
DTSTAMP:20260424T132256Z
DESCRIPTION:
DTSTART;TZID=America/Chicago:20230927T150000
DTEND;TZID=America/Chicago:20230927T154500
LOCATION:
SUMMARY:HS Art Club
END:VEVENT
END:VCALENDAR
