BEGIN:VCALENDAR
VERSION:2.0
PRODID:-//tandcschool.org//NONSGML kigkonsult.se iCalcreator 2.30.10//
CALSCALE:GREGORIAN
METHOD:PUBLISH
UID:98408af2-6c5c-4d70-b02e-e25906ce0cb6
X-WR-CALDESC:
X-WR-RELCALID:5d96bd449809ed93824b165d212c5dea
X-WR-TIMEZONE:America/Chicago
BEGIN:VTIMEZONE
TZID:America/Chicago
BEGIN:STANDARD
TZNAME:CST
DTSTART:20221106T020000
TZOFFSETFROM:-0500
TZOFFSETTO:-0600
RDATE:20231105T020000
RDATE:20241103T020000
END:STANDARD
BEGIN:DAYLIGHT
TZNAME:CDT
DTSTART:20230312T020000
TZOFFSETFROM:-0600
TZOFFSETTO:-0500
RDATE:20240310T020000
RDATE:20250309T020000
END:DAYLIGHT
END:VTIMEZONE
BEGIN:VEVENT
UID:c8936d26-4612-4a1c-8544-27d91cb3c3d4
DTSTAMP:20260424T134046Z
DESCRIPTION:
DTSTART;TZID=America/Chicago:20230926T152000
DTEND;TZID=America/Chicago:20230926T160000
LOCATION:
SUMMARY:LS Lego Club
END:VEVENT
END:VCALENDAR
