BEGIN:VCALENDAR
VERSION:2.0
PRODID:-//tandcschool.org//NONSGML kigkonsult.se iCalcreator 2.30.10//
CALSCALE:GREGORIAN
METHOD:PUBLISH
UID:699e24e7-b6ba-4a8c-8978-848b433a773f
X-WR-CALDESC:
X-WR-RELCALID:99df228b4363202897e123497ea22d00
X-WR-TIMEZONE:America/Chicago
BEGIN:VTIMEZONE
TZID:America/Chicago
BEGIN:STANDARD
TZNAME:CST
DTSTART:20221106T020000
TZOFFSETFROM:-0500
TZOFFSETTO:-0600
RDATE:20231105T020000
RDATE:20241103T020000
END:STANDARD
BEGIN:DAYLIGHT
TZNAME:CDT
DTSTART:20230312T020000
TZOFFSETFROM:-0600
TZOFFSETTO:-0500
RDATE:20240310T020000
RDATE:20250309T020000
END:DAYLIGHT
END:VTIMEZONE
BEGIN:VEVENT
UID:19ac6727-28e1-430f-b11a-af984e2320ec
DTSTAMP:20260424T133803Z
DESCRIPTION:
DTSTART;TZID=America/Chicago:20230926T150000
DTEND;TZID=America/Chicago:20230926T154500
LOCATION:
SUMMARY:HS Running Club
END:VEVENT
END:VCALENDAR
