BEGIN:VCALENDAR
VERSION:2.0
PRODID:-//tandcschool.org//NONSGML kigkonsult.se iCalcreator 2.30.10//
CALSCALE:GREGORIAN
METHOD:PUBLISH
UID:0dbfa632-ed97-4ee4-a445-b466286c0ea4
X-WR-CALDESC:
X-WR-RELCALID:34734df929b0114e64e1a7ee0e273191
X-WR-TIMEZONE:America/Chicago
BEGIN:VTIMEZONE
TZID:America/Chicago
BEGIN:STANDARD
TZNAME:CST
DTSTART:20221106T020000
TZOFFSETFROM:-0500
TZOFFSETTO:-0600
RDATE:20231105T020000
RDATE:20241103T020000
END:STANDARD
BEGIN:DAYLIGHT
TZNAME:CDT
DTSTART:20230312T020000
TZOFFSETFROM:-0600
TZOFFSETTO:-0500
RDATE:20240310T020000
RDATE:20250309T020000
END:DAYLIGHT
END:VTIMEZONE
BEGIN:VEVENT
UID:f3c9501a-7276-46a6-81f7-d0fb550bd482
DTSTAMP:20260424T131905Z
DESCRIPTION:
DTSTART;TZID=America/Chicago:20230925T000000
DTEND;TZID=America/Chicago:20230925T235900
LOCATION:
SUMMARY:Vision Screening Day
END:VEVENT
END:VCALENDAR
