BEGIN:VCALENDAR
VERSION:2.0
PRODID:-//tandcschool.org//NONSGML kigkonsult.se iCalcreator 2.30.10//
CALSCALE:GREGORIAN
METHOD:PUBLISH
UID:47697b6d-3a1e-45ef-a4ce-915d86d0d610
X-WR-CALDESC:
X-WR-RELCALID:516d506d167dac8373563fbc3a55d320
X-WR-TIMEZONE:America/Chicago
BEGIN:VTIMEZONE
TZID:America/Chicago
BEGIN:STANDARD
TZNAME:CST
DTSTART:20221106T020000
TZOFFSETFROM:-0500
TZOFFSETTO:-0600
RDATE:20231105T020000
RDATE:20241103T020000
END:STANDARD
BEGIN:DAYLIGHT
TZNAME:CDT
DTSTART:20230312T020000
TZOFFSETFROM:-0600
TZOFFSETTO:-0500
RDATE:20240310T020000
RDATE:20250309T020000
END:DAYLIGHT
END:VTIMEZONE
BEGIN:VEVENT
UID:b387175f-007a-4eee-b747-029104ccadbc
DTSTAMP:20260424T132111Z
DESCRIPTION:
DTSTART;TZID=America/Chicago:20230922T150000
DTEND;TZID=America/Chicago:20230922T154500
LOCATION:
SUMMARY:NHS Meeting
END:VEVENT
END:VCALENDAR
