BEGIN:VCALENDAR
VERSION:2.0
PRODID:-//tandcschool.org//NONSGML kigkonsult.se iCalcreator 2.30.10//
CALSCALE:GREGORIAN
METHOD:PUBLISH
UID:ee637f44-a97f-4565-b28f-57fadccc7e36
X-WR-CALDESC:
X-WR-RELCALID:f6712965373029b31516de12d0cbf2f2
X-WR-TIMEZONE:America/Chicago
BEGIN:VTIMEZONE
TZID:America/Chicago
BEGIN:STANDARD
TZNAME:CST
DTSTART:20221106T020000
TZOFFSETFROM:-0500
TZOFFSETTO:-0600
RDATE:20231105T020000
RDATE:20241103T020000
END:STANDARD
BEGIN:DAYLIGHT
TZNAME:CDT
DTSTART:20230312T020000
TZOFFSETFROM:-0600
TZOFFSETTO:-0500
RDATE:20240310T020000
RDATE:20250309T020000
END:DAYLIGHT
END:VTIMEZONE
BEGIN:VEVENT
UID:8b8cbd75-b09c-4993-8b11-24806de12dc1
DTSTAMP:20260424T132401Z
DESCRIPTION:
DTSTART;TZID=America/Chicago:20230922T150000
DTEND;TZID=America/Chicago:20230922T154500
LOCATION:
SUMMARY:Gaming Club C
END:VEVENT
END:VCALENDAR
