BEGIN:VCALENDAR
VERSION:2.0
PRODID:-//tandcschool.org//NONSGML kigkonsult.se iCalcreator 2.30.10//
CALSCALE:GREGORIAN
METHOD:PUBLISH
UID:89443ec0-1130-49a3-84fe-2a882c1414b9
X-WR-CALDESC:
X-WR-RELCALID:115896223d585d3d39b1d9c8ed979b7c
X-WR-TIMEZONE:America/Chicago
BEGIN:VTIMEZONE
TZID:America/Chicago
BEGIN:STANDARD
TZNAME:CST
DTSTART:20221106T020000
TZOFFSETFROM:-0500
TZOFFSETTO:-0600
RDATE:20231105T020000
RDATE:20241103T020000
END:STANDARD
BEGIN:DAYLIGHT
TZNAME:CDT
DTSTART:20230312T020000
TZOFFSETFROM:-0600
TZOFFSETTO:-0500
RDATE:20240310T020000
RDATE:20250309T020000
END:DAYLIGHT
END:VTIMEZONE
BEGIN:VEVENT
UID:7d2baf29-09aa-4c4c-bc86-ad7d78eb27fd
DTSTAMP:20260424T132127Z
DESCRIPTION:
DTSTART;TZID=America/Chicago:20230922T000000
DTEND;TZID=America/Chicago:20230922T235900
LOCATION:
SUMMARY:Fast Food Friday
END:VEVENT
END:VCALENDAR
