BEGIN:VCALENDAR
VERSION:2.0
PRODID:-//tandcschool.org//NONSGML kigkonsult.se iCalcreator 2.30.10//
CALSCALE:GREGORIAN
METHOD:PUBLISH
UID:f924398b-cea8-454e-adbd-60d3eec4a8b4
X-WR-CALDESC:
X-WR-RELCALID:318a5ea2b058d22a06c58feff44e7ff7
X-WR-TIMEZONE:America/Chicago
BEGIN:VTIMEZONE
TZID:America/Chicago
BEGIN:STANDARD
TZNAME:CST
DTSTART:20221106T020000
TZOFFSETFROM:-0500
TZOFFSETTO:-0600
RDATE:20231105T020000
RDATE:20241103T020000
END:STANDARD
BEGIN:DAYLIGHT
TZNAME:CDT
DTSTART:20230312T020000
TZOFFSETFROM:-0600
TZOFFSETTO:-0500
RDATE:20240310T020000
RDATE:20250309T020000
END:DAYLIGHT
END:VTIMEZONE
BEGIN:VEVENT
UID:e47db8ee-de5b-4175-9570-cc1d4d8e5fd2
DTSTAMP:20260424T132658Z
DESCRIPTION:
DTSTART;TZID=America/Chicago:20230921T151500
DTEND;TZID=America/Chicago:20230921T160000
LOCATION:
SUMMARY:Band Club
END:VEVENT
END:VCALENDAR
