BEGIN:VCALENDAR
VERSION:2.0
PRODID:-//tandcschool.org//NONSGML kigkonsult.se iCalcreator 2.30.10//
CALSCALE:GREGORIAN
METHOD:PUBLISH
UID:bf357e52-0e47-4d2a-b65f-4fe6f35daa96
X-WR-CALDESC:
X-WR-RELCALID:353d994e6bff84ece2f6d9dc3330a923
X-WR-TIMEZONE:America/Chicago
BEGIN:VTIMEZONE
TZID:America/Chicago
BEGIN:STANDARD
TZNAME:CST
DTSTART:20221106T020000
TZOFFSETFROM:-0500
TZOFFSETTO:-0600
RDATE:20231105T020000
RDATE:20241103T020000
END:STANDARD
BEGIN:DAYLIGHT
TZNAME:CDT
DTSTART:20230312T020000
TZOFFSETFROM:-0600
TZOFFSETTO:-0500
RDATE:20240310T020000
RDATE:20250309T020000
END:DAYLIGHT
END:VTIMEZONE
BEGIN:VEVENT
UID:8017043e-d4ff-4176-b207-1b7f2db5b2b9
DTSTAMP:20260424T132622Z
DESCRIPTION:
DTSTART;TZID=America/Chicago:20230921T150000
DTEND;TZID=America/Chicago:20230921T154500
LOCATION:
SUMMARY:Crochet Club
END:VEVENT
END:VCALENDAR
