BEGIN:VCALENDAR
VERSION:2.0
PRODID:-//tandcschool.org//NONSGML kigkonsult.se iCalcreator 2.30.10//
CALSCALE:GREGORIAN
METHOD:PUBLISH
UID:cac7c8f6-4813-400a-a77c-68505c4150c3
X-WR-CALDESC:
X-WR-RELCALID:2568d921cc88ea3d273b34648cff472c
X-WR-TIMEZONE:America/Chicago
BEGIN:VTIMEZONE
TZID:America/Chicago
BEGIN:STANDARD
TZNAME:CST
DTSTART:20221106T020000
TZOFFSETFROM:-0500
TZOFFSETTO:-0600
RDATE:20231105T020000
RDATE:20241103T020000
END:STANDARD
BEGIN:DAYLIGHT
TZNAME:CDT
DTSTART:20230312T020000
TZOFFSETFROM:-0600
TZOFFSETTO:-0500
RDATE:20240310T020000
RDATE:20250309T020000
END:DAYLIGHT
END:VTIMEZONE
BEGIN:VEVENT
UID:def057cb-a27a-4742-be25-4a3ab609f58b
DTSTAMP:20260424T132355Z
DESCRIPTION:
DTSTART;TZID=America/Chicago:20230920T152000
DTEND;TZID=America/Chicago:20230920T160000
LOCATION:
SUMMARY:Production Club A
END:VEVENT
END:VCALENDAR
