BEGIN:VCALENDAR
VERSION:2.0
PRODID:-//tandcschool.org//NONSGML kigkonsult.se iCalcreator 2.30.10//
CALSCALE:GREGORIAN
METHOD:PUBLISH
UID:750deb36-437f-4828-9d62-053523660efb
X-WR-CALDESC:
X-WR-RELCALID:e383efb10851f069d0296c6a14583ced
X-WR-TIMEZONE:America/Chicago
BEGIN:VTIMEZONE
TZID:America/Chicago
BEGIN:STANDARD
TZNAME:CST
DTSTART:20221106T020000
TZOFFSETFROM:-0500
TZOFFSETTO:-0600
RDATE:20231105T020000
RDATE:20241103T020000
END:STANDARD
BEGIN:DAYLIGHT
TZNAME:CDT
DTSTART:20230312T020000
TZOFFSETFROM:-0600
TZOFFSETTO:-0500
RDATE:20240310T020000
RDATE:20250309T020000
END:DAYLIGHT
END:VTIMEZONE
BEGIN:VEVENT
UID:eef740d1-c137-4074-aeba-5669331ec7bb
DTSTAMP:20260424T132219Z
DESCRIPTION:
DTSTART;TZID=America/Chicago:20230920T150000
DTEND;TZID=America/Chicago:20230920T154500
LOCATION:
SUMMARY:MS Art Club
END:VEVENT
END:VCALENDAR
