BEGIN:VCALENDAR
VERSION:2.0
PRODID:-//tandcschool.org//NONSGML kigkonsult.se iCalcreator 2.30.10//
CALSCALE:GREGORIAN
METHOD:PUBLISH
UID:70b525e4-a0b7-42f8-b8b9-9d705f7d9631
X-WR-CALDESC:
X-WR-RELCALID:68984f8d472519a43e11333a05ea3684
X-WR-TIMEZONE:America/Chicago
BEGIN:VTIMEZONE
TZID:America/Chicago
BEGIN:STANDARD
TZNAME:CST
DTSTART:20221106T020000
TZOFFSETFROM:-0500
TZOFFSETTO:-0600
RDATE:20231105T020000
RDATE:20241103T020000
END:STANDARD
BEGIN:DAYLIGHT
TZNAME:CDT
DTSTART:20230312T020000
TZOFFSETFROM:-0600
TZOFFSETTO:-0500
RDATE:20240310T020000
RDATE:20250309T020000
END:DAYLIGHT
END:VTIMEZONE
BEGIN:VEVENT
UID:43bdfb52-8143-48b2-bee4-24ceaface0b4
DTSTAMP:20260424T131814Z
DESCRIPTION:
DTSTART;TZID=America/Chicago:20230920T000000
DTEND;TZID=America/Chicago:20230920T235900
LOCATION:
SUMMARY:HS Virtual Day
END:VEVENT
END:VCALENDAR
