BEGIN:VCALENDAR
VERSION:2.0
PRODID:-//tandcschool.org//NONSGML kigkonsult.se iCalcreator 2.30.10//
CALSCALE:GREGORIAN
METHOD:PUBLISH
UID:af7394d0-3fd7-4acb-9dcf-d9ce4c030ec7
X-WR-CALDESC:
X-WR-RELCALID:65485e7895bcd5816e11f57e3c2b1523
X-WR-TIMEZONE:America/Chicago
BEGIN:VTIMEZONE
TZID:America/Chicago
BEGIN:STANDARD
TZNAME:CST
DTSTART:20221106T020000
TZOFFSETFROM:-0500
TZOFFSETTO:-0600
RDATE:20231105T020000
RDATE:20241103T020000
END:STANDARD
BEGIN:DAYLIGHT
TZNAME:CDT
DTSTART:20230312T020000
TZOFFSETFROM:-0600
TZOFFSETTO:-0500
RDATE:20240310T020000
RDATE:20250309T020000
END:DAYLIGHT
END:VTIMEZONE
BEGIN:VEVENT
UID:dc6aa803-49a7-48f8-8656-2cb6aa2f33f1
DTSTAMP:20260424T132528Z
DESCRIPTION:
DTSTART;TZID=America/Chicago:20230919T150000
DTEND;TZID=America/Chicago:20230919T154500
LOCATION:
SUMMARY:HS Lego Club
END:VEVENT
END:VCALENDAR
