BEGIN:VCALENDAR
VERSION:2.0
PRODID:-//tandcschool.org//NONSGML kigkonsult.se iCalcreator 2.30.10//
CALSCALE:GREGORIAN
METHOD:PUBLISH
UID:367bd4cb-1794-4ee7-8de8-fbc6fe378ac4
X-WR-CALDESC:
X-WR-RELCALID:3c6451ac17c715ea365a2cc0734fc8b8
X-WR-TIMEZONE:America/Chicago
BEGIN:VTIMEZONE
TZID:America/Chicago
BEGIN:STANDARD
TZNAME:CST
DTSTART:20221106T020000
TZOFFSETFROM:-0500
TZOFFSETTO:-0600
RDATE:20231105T020000
RDATE:20241103T020000
END:STANDARD
BEGIN:DAYLIGHT
TZNAME:CDT
DTSTART:20230312T020000
TZOFFSETFROM:-0600
TZOFFSETTO:-0500
RDATE:20240310T020000
RDATE:20250309T020000
END:DAYLIGHT
END:VTIMEZONE
BEGIN:VEVENT
UID:d206f4a3-ab42-4c29-8d63-9720286e4491
DTSTAMP:20260424T132622Z
DESCRIPTION:
DTSTART;TZID=America/Chicago:20230918T150000
DTEND;TZID=America/Chicago:20230918T154500
LOCATION:
SUMMARY:Chess Club
END:VEVENT
END:VCALENDAR
