BEGIN:VCALENDAR
VERSION:2.0
PRODID:-//tandcschool.org//NONSGML kigkonsult.se iCalcreator 2.30.10//
CALSCALE:GREGORIAN
METHOD:PUBLISH
UID:f3336648-b55b-4c31-97d4-b6f109bef4d2
X-WR-CALDESC:
X-WR-RELCALID:026234fa02eee760e68bb785cf162777
X-WR-TIMEZONE:America/Chicago
BEGIN:VTIMEZONE
TZID:America/Chicago
BEGIN:STANDARD
TZNAME:CST
DTSTART:20221106T020000
TZOFFSETFROM:-0500
TZOFFSETTO:-0600
RDATE:20231105T020000
RDATE:20241103T020000
END:STANDARD
BEGIN:DAYLIGHT
TZNAME:CDT
DTSTART:20230312T020000
TZOFFSETFROM:-0600
TZOFFSETTO:-0500
RDATE:20240310T020000
RDATE:20250309T020000
END:DAYLIGHT
END:VTIMEZONE
BEGIN:VEVENT
UID:93ded58b-5049-4f50-a9ac-154817bf5727
DTSTAMP:20260424T132241Z
DESCRIPTION:
DTSTART;TZID=America/Chicago:20230918T150000
DTEND;TZID=America/Chicago:20230918T160000
LOCATION:
SUMMARY:Cheer
END:VEVENT
END:VCALENDAR
