BEGIN:VCALENDAR
VERSION:2.0
PRODID:-//tandcschool.org//NONSGML kigkonsult.se iCalcreator 2.30.10//
CALSCALE:GREGORIAN
METHOD:PUBLISH
UID:354c7536-6875-4711-b69a-02ec52d78da5
X-WR-CALDESC:
X-WR-RELCALID:4c6eb0edcb348a07242afe57bbd41ca0
X-WR-TIMEZONE:America/Chicago
BEGIN:VTIMEZONE
TZID:America/Chicago
BEGIN:STANDARD
TZNAME:CST
DTSTART:20221106T020000
TZOFFSETFROM:-0500
TZOFFSETTO:-0600
RDATE:20231105T020000
RDATE:20241103T020000
END:STANDARD
BEGIN:DAYLIGHT
TZNAME:CDT
DTSTART:20230312T020000
TZOFFSETFROM:-0600
TZOFFSETTO:-0500
RDATE:20240310T020000
RDATE:20250309T020000
END:DAYLIGHT
END:VTIMEZONE
BEGIN:VEVENT
UID:d9b8db9d-a4a3-422a-ac24-19f53b6b03df
DTSTAMP:20260424T131947Z
DESCRIPTION:
DTSTART;TZID=America/Chicago:20230915T000000
DTEND;TZID=America/Chicago:20230915T235900
LOCATION:
SUMMARY:TU Hearing Screening 9th-12th Grade
END:VEVENT
END:VCALENDAR
