BEGIN:VCALENDAR
VERSION:2.0
PRODID:-//tandcschool.org//NONSGML kigkonsult.se iCalcreator 2.30.10//
CALSCALE:GREGORIAN
METHOD:PUBLISH
UID:af8dec28-950c-4154-b614-869c3222ae2f
X-WR-CALDESC:
X-WR-RELCALID:581a85995488fd2c2190dd5e2b14b7f0
X-WR-TIMEZONE:America/Chicago
BEGIN:VTIMEZONE
TZID:America/Chicago
BEGIN:STANDARD
TZNAME:CST
DTSTART:20221106T020000
TZOFFSETFROM:-0500
TZOFFSETTO:-0600
RDATE:20231105T020000
RDATE:20241103T020000
END:STANDARD
BEGIN:DAYLIGHT
TZNAME:CDT
DTSTART:20230312T020000
TZOFFSETFROM:-0600
TZOFFSETTO:-0500
RDATE:20240310T020000
RDATE:20250309T020000
END:DAYLIGHT
END:VTIMEZONE
BEGIN:VEVENT
UID:e74a9521-69e9-49aa-92ec-698acc89df42
DTSTAMP:20260424T132930Z
DESCRIPTION:
DTSTART;TZID=America/Chicago:20230915T150000
DTEND;TZID=America/Chicago:20230915T154500
LOCATION:
SUMMARY:MS/HS Astronomy Club
END:VEVENT
END:VCALENDAR
