BEGIN:VCALENDAR
VERSION:2.0
PRODID:-//tandcschool.org//NONSGML kigkonsult.se iCalcreator 2.30.10//
CALSCALE:GREGORIAN
METHOD:PUBLISH
UID:c8d73af6-10b2-4299-a7ec-011e4f40ff9f
X-WR-CALDESC:
X-WR-RELCALID:ad3c0dc2d90fb3183e1e4fbba2f5378f
X-WR-TIMEZONE:America/Chicago
BEGIN:VTIMEZONE
TZID:America/Chicago
BEGIN:STANDARD
TZNAME:CST
DTSTART:20221106T020000
TZOFFSETFROM:-0500
TZOFFSETTO:-0600
RDATE:20231105T020000
RDATE:20241103T020000
END:STANDARD
BEGIN:DAYLIGHT
TZNAME:CDT
DTSTART:20230312T020000
TZOFFSETFROM:-0600
TZOFFSETTO:-0500
RDATE:20240310T020000
RDATE:20250309T020000
END:DAYLIGHT
END:VTIMEZONE
BEGIN:VEVENT
UID:0c0a766c-7501-44c7-90bf-34550e5c3d01
DTSTAMP:20260424T131641Z
DESCRIPTION:
DTSTART;TZID=America/Chicago:20230915T000000
DTEND;TZID=America/Chicago:20230915T235900
LOCATION:
SUMMARY:MS Fab Lab
END:VEVENT
END:VCALENDAR
