BEGIN:VCALENDAR
VERSION:2.0
PRODID:-//tandcschool.org//NONSGML kigkonsult.se iCalcreator 2.30.10//
CALSCALE:GREGORIAN
METHOD:PUBLISH
UID:0a954775-90c8-42df-99a6-3f86c24a9dcc
X-WR-CALDESC:For 10th-12th grade students
X-WR-RELCALID:03b3a27b0187e2e328fb254dfaadb088
X-WR-TIMEZONE:America/Chicago
BEGIN:VTIMEZONE
TZID:America/Chicago
BEGIN:STANDARD
TZNAME:CST
DTSTART:20221106T020000
TZOFFSETFROM:-0500
TZOFFSETTO:-0600
RDATE:20231105T020000
RDATE:20241103T020000
END:STANDARD
BEGIN:DAYLIGHT
TZNAME:CDT
DTSTART:20230312T020000
TZOFFSETFROM:-0600
TZOFFSETTO:-0500
RDATE:20240310T020000
RDATE:20250309T020000
END:DAYLIGHT
END:VTIMEZONE
BEGIN:VEVENT
UID:17d98de3-c94c-40ec-812b-344e25c9f778
DTSTAMP:20260424T131822Z
DESCRIPTION:For 10th-12th grade students
DTSTART;TZID=America/Chicago:20230914T100000
DTEND;TZID=America/Chicago:20230914T103000
LOCATION:
SUMMARY:Tulsa Tech Presentation
END:VEVENT
END:VCALENDAR
