BEGIN:VCALENDAR
VERSION:2.0
PRODID:-//tandcschool.org//NONSGML kigkonsult.se iCalcreator 2.30.10//
CALSCALE:GREGORIAN
METHOD:PUBLISH
UID:bf0a1b70-5ffd-4cf2-ad22-8f96f08075db
X-WR-CALDESC:
X-WR-RELCALID:20218c4ddcc7025f49ecc936b8276caf
X-WR-TIMEZONE:America/Chicago
BEGIN:VTIMEZONE
TZID:America/Chicago
BEGIN:STANDARD
TZNAME:CST
DTSTART:20221106T020000
TZOFFSETFROM:-0500
TZOFFSETTO:-0600
RDATE:20231105T020000
RDATE:20241103T020000
END:STANDARD
BEGIN:DAYLIGHT
TZNAME:CDT
DTSTART:20230312T020000
TZOFFSETFROM:-0600
TZOFFSETTO:-0500
RDATE:20240310T020000
RDATE:20250309T020000
END:DAYLIGHT
END:VTIMEZONE
BEGIN:VEVENT
UID:aebdc93f-9bde-4499-bfc8-5f9e1af45a42
DTSTAMP:20260424T131641Z
DESCRIPTION:
DTSTART;TZID=America/Chicago:20230914T000000
DTEND;TZID=America/Chicago:20230914T235900
LOCATION:
SUMMARY:LS Fab Lab
END:VEVENT
END:VCALENDAR
