BEGIN:VCALENDAR
VERSION:2.0
PRODID:-//tandcschool.org//NONSGML kigkonsult.se iCalcreator 2.30.10//
CALSCALE:GREGORIAN
METHOD:PUBLISH
UID:bffa8a73-97d8-46a9-8ed6-89235426fb93
X-WR-CALDESC:
X-WR-RELCALID:f15759e4e6a8974e67d3695085c383b5
X-WR-TIMEZONE:America/Chicago
BEGIN:VTIMEZONE
TZID:America/Chicago
BEGIN:STANDARD
TZNAME:CST
DTSTART:20221106T020000
TZOFFSETFROM:-0500
TZOFFSETTO:-0600
RDATE:20231105T020000
RDATE:20241103T020000
END:STANDARD
BEGIN:DAYLIGHT
TZNAME:CDT
DTSTART:20230312T020000
TZOFFSETFROM:-0600
TZOFFSETTO:-0500
RDATE:20240310T020000
RDATE:20250309T020000
END:DAYLIGHT
END:VTIMEZONE
BEGIN:VEVENT
UID:0c1a4ee0-85c6-4d41-962e-763f94f0dca3
DTSTAMP:20260424T132828Z
DESCRIPTION:
DTSTART;TZID=America/Chicago:20230914T152000
DTEND;TZID=America/Chicago:20230914T160000
LOCATION:
SUMMARY:LS Running Club
END:VEVENT
END:VCALENDAR
