BEGIN:VCALENDAR
VERSION:2.0
PRODID:-//tandcschool.org//NONSGML kigkonsult.se iCalcreator 2.30.10//
CALSCALE:GREGORIAN
METHOD:PUBLISH
UID:6c8ce9d3-1f84-4c0b-a4bb-43a125235997
X-WR-CALDESC:
X-WR-RELCALID:ff3545cb3b14c09ca4291176f46a393b
X-WR-TIMEZONE:America/Chicago
BEGIN:VTIMEZONE
TZID:America/Chicago
BEGIN:STANDARD
TZNAME:CST
DTSTART:20221106T020000
TZOFFSETFROM:-0500
TZOFFSETTO:-0600
RDATE:20231105T020000
RDATE:20241103T020000
END:STANDARD
BEGIN:DAYLIGHT
TZNAME:CDT
DTSTART:20230312T020000
TZOFFSETFROM:-0600
TZOFFSETTO:-0500
RDATE:20240310T020000
RDATE:20250309T020000
END:DAYLIGHT
END:VTIMEZONE
BEGIN:VEVENT
UID:6f6e0695-ab71-47de-a952-7df40e6e0e65
DTSTAMP:20260424T132704Z
DESCRIPTION:
DTSTART;TZID=America/Chicago:20230914T151500
DTEND;TZID=America/Chicago:20230914T160000
LOCATION:
SUMMARY:Band Club
END:VEVENT
END:VCALENDAR
