BEGIN:VCALENDAR
VERSION:2.0
PRODID:-//tandcschool.org//NONSGML kigkonsult.se iCalcreator 2.30.10//
CALSCALE:GREGORIAN
METHOD:PUBLISH
UID:09c91e53-e33b-401a-8295-e778ba770168
X-WR-CALDESC:
X-WR-RELCALID:349c6e443641e661603df745c139f8a3
X-WR-TIMEZONE:America/Chicago
BEGIN:VTIMEZONE
TZID:America/Chicago
BEGIN:STANDARD
TZNAME:CST
DTSTART:20221106T020000
TZOFFSETFROM:-0500
TZOFFSETTO:-0600
RDATE:20231105T020000
RDATE:20241103T020000
END:STANDARD
BEGIN:DAYLIGHT
TZNAME:CDT
DTSTART:20230312T020000
TZOFFSETFROM:-0600
TZOFFSETTO:-0500
RDATE:20240310T020000
RDATE:20250309T020000
END:DAYLIGHT
END:VTIMEZONE
BEGIN:VEVENT
UID:616cc2b9-026b-46b2-85a5-2d68158381e5
DTSTAMP:20260424T132458Z
DESCRIPTION:
DTSTART;TZID=America/Chicago:20230913T152000
DTEND;TZID=America/Chicago:20230913T160000
LOCATION:
SUMMARY:Production Club
END:VEVENT
END:VCALENDAR
