BEGIN:VCALENDAR
VERSION:2.0
PRODID:-//tandcschool.org//NONSGML kigkonsult.se iCalcreator 2.30.10//
CALSCALE:GREGORIAN
METHOD:PUBLISH
UID:c641e3ba-629d-4a25-ad1e-b7eb28c50321
X-WR-CALDESC:
X-WR-RELCALID:be96948ee44bdeb0b9f4f34382177b8d
X-WR-TIMEZONE:America/Chicago
BEGIN:VTIMEZONE
TZID:America/Chicago
BEGIN:STANDARD
TZNAME:CST
DTSTART:20221106T020000
TZOFFSETFROM:-0500
TZOFFSETTO:-0600
RDATE:20231105T020000
RDATE:20241103T020000
END:STANDARD
BEGIN:DAYLIGHT
TZNAME:CDT
DTSTART:20230312T020000
TZOFFSETFROM:-0600
TZOFFSETTO:-0500
RDATE:20240310T020000
RDATE:20250309T020000
END:DAYLIGHT
END:VTIMEZONE
BEGIN:VEVENT
UID:1047e1e4-fc9a-4f5e-9f88-75970ed43939
DTSTAMP:20260424T133119Z
DESCRIPTION:
DTSTART;TZID=America/Chicago:20230912T150000
DTEND;TZID=America/Chicago:20230912T154500
LOCATION:
SUMMARY:HS Running Club
END:VEVENT
END:VCALENDAR
