BEGIN:VCALENDAR
VERSION:2.0
PRODID:-//tandcschool.org//NONSGML kigkonsult.se iCalcreator 2.30.10//
CALSCALE:GREGORIAN
METHOD:PUBLISH
UID:03042f95-9b7a-43ca-b538-deea74ed9e1a
X-WR-CALDESC:
X-WR-RELCALID:6a5774e180137cbcce7b6dc31f26e6f0
X-WR-TIMEZONE:America/Chicago
BEGIN:VTIMEZONE
TZID:America/Chicago
BEGIN:STANDARD
TZNAME:CST
DTSTART:20221106T020000
TZOFFSETFROM:-0500
TZOFFSETTO:-0600
RDATE:20231105T020000
RDATE:20241103T020000
END:STANDARD
BEGIN:DAYLIGHT
TZNAME:CDT
DTSTART:20230312T020000
TZOFFSETFROM:-0600
TZOFFSETTO:-0500
RDATE:20240310T020000
RDATE:20250309T020000
END:DAYLIGHT
END:VTIMEZONE
BEGIN:VEVENT
UID:bb892685-7676-499f-a910-cfdf9a84541d
DTSTAMP:20260424T131947Z
DESCRIPTION:
DTSTART;TZID=America/Chicago:20230911T000000
DTEND;TZID=America/Chicago:20230911T235900
LOCATION:
SUMMARY:T&C School Store
END:VEVENT
END:VCALENDAR
