BEGIN:VCALENDAR
VERSION:2.0
PRODID:-//tandcschool.org//NONSGML kigkonsult.se iCalcreator 2.30.10//
CALSCALE:GREGORIAN
METHOD:PUBLISH
UID:a227ca35-93f7-45a3-b642-3b9d9e45bbc1
X-WR-CALDESC:
X-WR-RELCALID:ddd9acb12698fb6426670fac82a334c9
X-WR-TIMEZONE:America/Chicago
BEGIN:VTIMEZONE
TZID:America/Chicago
BEGIN:STANDARD
TZNAME:CST
DTSTART:20221106T020000
TZOFFSETFROM:-0500
TZOFFSETTO:-0600
RDATE:20231105T020000
RDATE:20241103T020000
END:STANDARD
BEGIN:DAYLIGHT
TZNAME:CDT
DTSTART:20230312T020000
TZOFFSETFROM:-0600
TZOFFSETTO:-0500
RDATE:20240310T020000
RDATE:20250309T020000
END:DAYLIGHT
END:VTIMEZONE
BEGIN:VEVENT
UID:c7176f29-d355-43eb-a1f9-516aa66d08da
DTSTAMP:20260424T132355Z
DESCRIPTION:
DTSTART;TZID=America/Chicago:20230911T152000
DTEND;TZID=America/Chicago:20230911T160000
LOCATION:
SUMMARY:LS Art Club
END:VEVENT
END:VCALENDAR
