BEGIN:VCALENDAR
VERSION:2.0
PRODID:-//tandcschool.org//NONSGML kigkonsult.se iCalcreator 2.30.10//
CALSCALE:GREGORIAN
METHOD:PUBLISH
UID:0cb8e598-d3dc-41e7-8500-5ab99e2d6d56
X-WR-CALDESC:
X-WR-RELCALID:57a6618c9e0c313d168fad461f4f4d8f
X-WR-TIMEZONE:America/Chicago
BEGIN:VTIMEZONE
TZID:America/Chicago
BEGIN:STANDARD
TZNAME:CST
DTSTART:20221106T020000
TZOFFSETFROM:-0500
TZOFFSETTO:-0600
RDATE:20231105T020000
RDATE:20241103T020000
END:STANDARD
BEGIN:DAYLIGHT
TZNAME:CDT
DTSTART:20230312T020000
TZOFFSETFROM:-0600
TZOFFSETTO:-0500
RDATE:20240310T020000
RDATE:20250309T020000
END:DAYLIGHT
END:VTIMEZONE
BEGIN:VEVENT
UID:63372868-150a-4889-bf9c-2ce3c3e0634f
DTSTAMP:20260424T132425Z
DESCRIPTION:
DTSTART;TZID=America/Chicago:20230911T150000
DTEND;TZID=America/Chicago:20230911T160000
LOCATION:
SUMMARY:Cheer
END:VEVENT
END:VCALENDAR
