BEGIN:VCALENDAR
VERSION:2.0
PRODID:-//tandcschool.org//NONSGML kigkonsult.se iCalcreator 2.30.10//
CALSCALE:GREGORIAN
METHOD:PUBLISH
UID:aeaddff9-4db5-41e1-b0ca-94d925514d07
X-WR-CALDESC:
X-WR-RELCALID:6e5bc54a20fbb853b4b5afe2e43293be
X-WR-TIMEZONE:America/Chicago
BEGIN:VTIMEZONE
TZID:America/Chicago
BEGIN:STANDARD
TZNAME:CST
DTSTART:20221106T020000
TZOFFSETFROM:-0500
TZOFFSETTO:-0600
RDATE:20231105T020000
RDATE:20241103T020000
END:STANDARD
BEGIN:DAYLIGHT
TZNAME:CDT
DTSTART:20230312T020000
TZOFFSETFROM:-0600
TZOFFSETTO:-0500
RDATE:20240310T020000
END:DAYLIGHT
END:VTIMEZONE
BEGIN:VEVENT
UID:ae1ab071-ac1d-4b86-a8fa-98ec7518e760
DTSTAMP:20260424T132039Z
DESCRIPTION:
DTSTART;TZID=America/Chicago:20230907T000000
DTEND;TZID=America/Chicago:20230907T235900
LOCATION:
SUMMARY:School Picture Day
END:VEVENT
END:VCALENDAR
