BEGIN:VCALENDAR
VERSION:2.0
PRODID:-//tandcschool.org//NONSGML kigkonsult.se iCalcreator 2.30.10//
CALSCALE:GREGORIAN
METHOD:PUBLISH
UID:efaa818a-8fad-4df3-b705-7fe72394d2fa
X-WR-CALDESC:
X-WR-RELCALID:4c2550d2c1adff4b86bdff197bf9e710
X-WR-TIMEZONE:America/Chicago
BEGIN:VTIMEZONE
TZID:America/Chicago
BEGIN:STANDARD
TZNAME:CST
DTSTART:20221106T020000
TZOFFSETFROM:-0500
TZOFFSETTO:-0600
RDATE:20231105T020000
RDATE:20241103T020000
END:STANDARD
BEGIN:DAYLIGHT
TZNAME:CDT
DTSTART:20230312T020000
TZOFFSETFROM:-0600
TZOFFSETTO:-0500
RDATE:20240310T020000
END:DAYLIGHT
END:VTIMEZONE
BEGIN:VEVENT
UID:573f69f7-344a-470d-bfd7-89615f52e194
DTSTAMP:20260424T132000Z
DESCRIPTION:
DTSTART;TZID=America/Chicago:20230907T152000
DTEND;TZID=America/Chicago:20230907T160000
LOCATION:
SUMMARY:LS Running Club
END:VEVENT
END:VCALENDAR
