BEGIN:VCALENDAR
VERSION:2.0
PRODID:-//tandcschool.org//NONSGML kigkonsult.se iCalcreator 2.30.10//
CALSCALE:GREGORIAN
METHOD:PUBLISH
UID:b0c142cf-19b3-4edc-85a1-19d543e86c10
X-WR-CALDESC:
X-WR-RELCALID:7951a2e1ec8f54beacb9a37d581aef3e
X-WR-TIMEZONE:America/Chicago
BEGIN:VTIMEZONE
TZID:America/Chicago
BEGIN:STANDARD
TZNAME:CST
DTSTART:20221106T020000
TZOFFSETFROM:-0500
TZOFFSETTO:-0600
RDATE:20231105T020000
RDATE:20241103T020000
END:STANDARD
BEGIN:DAYLIGHT
TZNAME:CDT
DTSTART:20230312T020000
TZOFFSETFROM:-0600
TZOFFSETTO:-0500
RDATE:20240310T020000
END:DAYLIGHT
END:VTIMEZONE
BEGIN:VEVENT
UID:2e245ed7-4c82-4183-a885-20dfa44e938b
DTSTAMP:20260424T132256Z
DESCRIPTION:
DTSTART;TZID=America/Chicago:20230907T150000
DTEND;TZID=America/Chicago:20230907T154500
LOCATION:
SUMMARY:Crochet Club
END:VEVENT
END:VCALENDAR
