BEGIN:VCALENDAR
VERSION:2.0
PRODID:-//tandcschool.org//NONSGML kigkonsult.se iCalcreator 2.30.10//
CALSCALE:GREGORIAN
METHOD:PUBLISH
UID:6e780913-9611-4ea3-9efd-240612b4a06d
X-WR-CALDESC:
X-WR-RELCALID:7e3262f8eefeb421dcd0945a99297539
X-WR-TIMEZONE:America/Chicago
BEGIN:VTIMEZONE
TZID:America/Chicago
BEGIN:STANDARD
TZNAME:CST
DTSTART:20221106T020000
TZOFFSETFROM:-0500
TZOFFSETTO:-0600
RDATE:20231105T020000
RDATE:20241103T020000
END:STANDARD
BEGIN:DAYLIGHT
TZNAME:CDT
DTSTART:20230312T020000
TZOFFSETFROM:-0600
TZOFFSETTO:-0500
RDATE:20240310T020000
END:DAYLIGHT
END:VTIMEZONE
BEGIN:VEVENT
UID:b1f8d1c4-0b78-4455-8594-f6e59041b291
DTSTAMP:20260424T133618Z
DESCRIPTION:
DTSTART;TZID=America/Chicago:20230907T151500
DTEND;TZID=America/Chicago:20230907T160000
LOCATION:
SUMMARY:Band Club
END:VEVENT
END:VCALENDAR
