BEGIN:VCALENDAR
VERSION:2.0
PRODID:-//tandcschool.org//NONSGML kigkonsult.se iCalcreator 2.30.10//
CALSCALE:GREGORIAN
METHOD:PUBLISH
UID:0324d83d-ee48-4f87-9833-96a746fbcc57
X-WR-CALDESC:
X-WR-RELCALID:e97debaced2692f65ddbc56a6e6dc326
X-WR-TIMEZONE:America/Chicago
BEGIN:VTIMEZONE
TZID:America/Chicago
BEGIN:STANDARD
TZNAME:CST
DTSTART:20221106T020000
TZOFFSETFROM:-0500
TZOFFSETTO:-0600
RDATE:20231105T020000
RDATE:20241103T020000
END:STANDARD
BEGIN:DAYLIGHT
TZNAME:CDT
DTSTART:20230312T020000
TZOFFSETFROM:-0600
TZOFFSETTO:-0500
RDATE:20240310T020000
END:DAYLIGHT
END:VTIMEZONE
BEGIN:VEVENT
UID:2dee84a5-ccfc-419f-986c-4e73582d9107
DTSTAMP:20260424T133206Z
DESCRIPTION:
DTSTART;TZID=America/Chicago:20230906T152000
DTEND;TZID=America/Chicago:20230906T160000
LOCATION:
SUMMARY:Production Club
END:VEVENT
END:VCALENDAR
