BEGIN:VCALENDAR
VERSION:2.0
PRODID:-//tandcschool.org//NONSGML kigkonsult.se iCalcreator 2.30.10//
CALSCALE:GREGORIAN
METHOD:PUBLISH
UID:374a2b71-88ec-48db-9b2a-bc5cf6b37c12
X-WR-CALDESC:
X-WR-RELCALID:c14317450f9b6081cef270ee1e0c7e10
X-WR-TIMEZONE:America/Chicago
BEGIN:VTIMEZONE
TZID:America/Chicago
BEGIN:STANDARD
TZNAME:CST
DTSTART:20221106T020000
TZOFFSETFROM:-0500
TZOFFSETTO:-0600
RDATE:20231105T020000
RDATE:20241103T020000
END:STANDARD
BEGIN:DAYLIGHT
TZNAME:CDT
DTSTART:20230312T020000
TZOFFSETFROM:-0600
TZOFFSETTO:-0500
RDATE:20240310T020000
END:DAYLIGHT
END:VTIMEZONE
BEGIN:VEVENT
UID:5b5e6cee-f5d6-4406-91d0-0d3917aaa138
DTSTAMP:20260424T132401Z
DESCRIPTION:
DTSTART;TZID=America/Chicago:20230905T150000
DTEND;TZID=America/Chicago:20230905T154500
LOCATION:
SUMMARY:HS Lego Club
END:VEVENT
END:VCALENDAR
