BEGIN:VCALENDAR
VERSION:2.0
PRODID:-//tandcschool.org//NONSGML kigkonsult.se iCalcreator 2.30.10//
CALSCALE:GREGORIAN
METHOD:PUBLISH
UID:afa50962-8879-4de0-be9b-2c29da18a62f
X-WR-CALDESC:Collecting items for Animal Alliance
X-WR-RELCALID:5657fd513c24eec0d4890ffcc350971f
X-WR-TIMEZONE:America/Chicago
BEGIN:VTIMEZONE
TZID:America/Chicago
BEGIN:STANDARD
TZNAME:CST
DTSTART:20221106T020000
TZOFFSETFROM:-0500
TZOFFSETTO:-0600
RDATE:20231105T020000
RDATE:20241103T020000
END:STANDARD
BEGIN:DAYLIGHT
TZNAME:CDT
DTSTART:20230312T020000
TZOFFSETFROM:-0600
TZOFFSETTO:-0500
RDATE:20240310T020000
END:DAYLIGHT
END:VTIMEZONE
BEGIN:VEVENT
UID:d2913021-88da-4576-82de-a74f57f50d5d
DTSTAMP:20260424T133229Z
DESCRIPTION:Collecting items for Animal Alliance
DTSTART;TZID=America/Chicago:20230903T000000
DTEND;TZID=America/Chicago:20230903T235900
LOCATION:
SUMMARY:8 Habits of the Heart: Nurturing Attitude
END:VEVENT
END:VCALENDAR
