BEGIN:VCALENDAR
VERSION:2.0
PRODID:-//tandcschool.org//NONSGML kigkonsult.se iCalcreator 2.30.10//
CALSCALE:GREGORIAN
METHOD:PUBLISH
UID:a26ffc21-9ec8-4dbe-a0c0-0ea5262aabdf
X-WR-CALDESC:
X-WR-RELCALID:4f0f740875a417b292cdff9ea94e7da8
X-WR-TIMEZONE:America/Chicago
BEGIN:VTIMEZONE
TZID:America/Chicago
BEGIN:STANDARD
TZNAME:CST
DTSTART:20221106T020000
TZOFFSETFROM:-0500
TZOFFSETTO:-0600
RDATE:20231105T020000
RDATE:20241103T020000
END:STANDARD
BEGIN:DAYLIGHT
TZNAME:CDT
DTSTART:20230312T020000
TZOFFSETFROM:-0600
TZOFFSETTO:-0500
RDATE:20240310T020000
END:DAYLIGHT
END:VTIMEZONE
BEGIN:VEVENT
UID:8239738c-9fb6-48d2-a8ae-100fef76dbc9
DTSTAMP:20260424T152613Z
DESCRIPTION:
DTSTART;TZID=America/Chicago:20230828T180000
DTEND;TZID=America/Chicago:20230828T200000
LOCATION:
SUMMARY:Back to School Skate Night
END:VEVENT
END:VCALENDAR
