BEGIN:VCALENDAR
VERSION:2.0
PRODID:-//tandcschool.org//NONSGML kigkonsult.se iCalcreator 2.30.10//
CALSCALE:GREGORIAN
METHOD:PUBLISH
UID:ce43728d-b9e0-4909-9c0b-679a93aeed09
X-WR-CALDESC:
X-WR-RELCALID:b852d4c9d4d1ac5cad6882c942ab9001
X-WR-TIMEZONE:America/Chicago
BEGIN:VTIMEZONE
TZID:America/Chicago
BEGIN:STANDARD
TZNAME:CST
DTSTART:20221106T020000
TZOFFSETFROM:-0500
TZOFFSETTO:-0600
RDATE:20231105T020000
RDATE:20241103T020000
END:STANDARD
BEGIN:DAYLIGHT
TZNAME:CDT
DTSTART:20230312T020000
TZOFFSETFROM:-0600
TZOFFSETTO:-0500
RDATE:20240310T020000
END:DAYLIGHT
END:VTIMEZONE
BEGIN:VEVENT
UID:cfbf5205-fd39-465a-8e8a-e75500a459c6
DTSTAMP:20260424T151437Z
DESCRIPTION:
DTSTART;TZID=America/Chicago:20230817T000000
DTEND;TZID=America/Chicago:20230817T235900
LOCATION:
SUMMARY:First Day of School
END:VEVENT
END:VCALENDAR
