BEGIN:VCALENDAR
VERSION:2.0
PRODID:-//tandcschool.org//NONSGML kigkonsult.se iCalcreator 2.30.10//
CALSCALE:GREGORIAN
METHOD:PUBLISH
UID:41007b83-c736-493d-923b-0967d6df146d
X-WR-CALDESC:
X-WR-RELCALID:563ff24fe20b47d6ee4349751db70e50
X-WR-TIMEZONE:America/Chicago
BEGIN:VTIMEZONE
TZID:America/Chicago
BEGIN:STANDARD
TZNAME:CST
DTSTART:20221106T020000
TZOFFSETFROM:-0500
TZOFFSETTO:-0600
RDATE:20231105T020000
RDATE:20241103T020000
END:STANDARD
BEGIN:DAYLIGHT
TZNAME:CDT
DTSTART:20230312T020000
TZOFFSETFROM:-0600
TZOFFSETTO:-0500
RDATE:20240310T020000
END:DAYLIGHT
END:VTIMEZONE
BEGIN:VEVENT
UID:0d9d311d-ca10-4c4c-8092-eb15403ce357
DTSTAMP:20260424T152202Z
DESCRIPTION:
DTSTART;TZID=America/Chicago:20230815T000000
DTEND;TZID=America/Chicago:20230815T235900
LOCATION:
SUMMARY:Orientation
END:VEVENT
END:VCALENDAR
