BEGIN:VCALENDAR
VERSION:2.0
PRODID:-//tandcschool.org//NONSGML kigkonsult.se iCalcreator 2.30.10//
CALSCALE:GREGORIAN
METHOD:PUBLISH
UID:52fb04c5-7d94-4991-8b99-902dd98e9a5e
X-WR-CALDESC:
X-WR-RELCALID:46a0f2f164fed65ac90c2b8552970e45
X-WR-TIMEZONE:America/Chicago
BEGIN:VTIMEZONE
TZID:America/Chicago
BEGIN:STANDARD
TZNAME:CST
DTSTART:20221106T020000
TZOFFSETFROM:-0500
TZOFFSETTO:-0600
RDATE:20231105T020000
RDATE:20241103T020000
END:STANDARD
BEGIN:DAYLIGHT
TZNAME:CDT
DTSTART:20230312T020000
TZOFFSETFROM:-0600
TZOFFSETTO:-0500
RDATE:20240310T020000
END:DAYLIGHT
END:VTIMEZONE
BEGIN:VEVENT
UID:004f8a36-c5ea-492e-9811-a28cb30a1e20
DTSTAMP:20260424T152044Z
DESCRIPTION:
DTSTART;TZID=America/Chicago:20230814T000000
DTEND;TZID=America/Chicago:20230816T235900
LOCATION:
SUMMARY:Staff Professional Development
END:VEVENT
END:VCALENDAR
