BEGIN:VCALENDAR
VERSION:2.0
PRODID:-//tandcschool.org//NONSGML kigkonsult.se iCalcreator 2.30.10//
CALSCALE:GREGORIAN
METHOD:PUBLISH
UID:51e5d0e4-0047-453a-9cd2-e234b636fb96
X-WR-CALDESC:
X-WR-RELCALID:6847bc8327a7658c29f958b9ff9348a3
X-WR-TIMEZONE:America/Chicago
BEGIN:VTIMEZONE
TZID:America/Chicago
BEGIN:STANDARD
TZNAME:CST
DTSTART:20221106T020000
TZOFFSETFROM:-0500
TZOFFSETTO:-0600
RDATE:20231105T020000
RDATE:20241103T020000
END:STANDARD
BEGIN:DAYLIGHT
TZNAME:CDT
DTSTART:20230312T020000
TZOFFSETFROM:-0600
TZOFFSETTO:-0500
RDATE:20240310T020000
END:DAYLIGHT
END:VTIMEZONE
BEGIN:VEVENT
UID:7051940b-445c-432e-afbc-c07bd675eb05
DTSTAMP:20260424T151240Z
DESCRIPTION:
DTSTART;TZID=America/Chicago:20230809T000000
DTEND;TZID=America/Chicago:20230811T235900
LOCATION:
SUMMARY:Staff Professional Development
END:VEVENT
END:VCALENDAR
