BEGIN:VCALENDAR
VERSION:2.0
PRODID:-//tandcschool.org//NONSGML kigkonsult.se iCalcreator 2.30.10//
CALSCALE:GREGORIAN
METHOD:PUBLISH
UID:3ab10df2-3797-4ed8-bc88-2ba473eceaae
X-WR-CALDESC:
X-WR-RELCALID:351eec7c264ba7b895563b815b4a914b
X-WR-TIMEZONE:America/Chicago
BEGIN:VTIMEZONE
TZID:America/Chicago
BEGIN:STANDARD
TZNAME:CST
DTSTART:20221106T020000
TZOFFSETFROM:-0500
TZOFFSETTO:-0600
RDATE:20231105T020000
RDATE:20241103T020000
END:STANDARD
BEGIN:DAYLIGHT
TZNAME:CDT
DTSTART:20230312T020000
TZOFFSETFROM:-0600
TZOFFSETTO:-0500
RDATE:20240310T020000
END:DAYLIGHT
END:VTIMEZONE
BEGIN:VEVENT
UID:316a0c7d-23df-48d5-ac78-3d7291e077a9
DTSTAMP:20260424T165035Z
DESCRIPTION:
DTSTART;TZID=America/Chicago:20230705T000000
DTEND;TZID=America/Chicago:20230705T235900
LOCATION:
SUMMARY:Office Reopens
END:VEVENT
END:VCALENDAR
