BEGIN:VCALENDAR
VERSION:2.0
PRODID:-//tandcschool.org//NONSGML kigkonsult.se iCalcreator 2.30.10//
CALSCALE:GREGORIAN
METHOD:PUBLISH
UID:a9051f41-b84d-47ac-90db-9110f0ed08fd
X-WR-CALDESC:Summer Camp hours for US\, June 5th- 30th/ July 5th-July 28th\
 ; 8:00-12:00 (pickup no later than 12:15 at the flagpole)\; LS/MS same day
 s\, hours 8:00-3:00
X-WR-RELCALID:fd889503d78ae8f0c98700fcf50d5dd5
X-WR-TIMEZONE:America/Chicago
BEGIN:VTIMEZONE
TZID:America/Chicago
BEGIN:STANDARD
TZNAME:CST
DTSTART:20221106T020000
TZOFFSETFROM:-0500
TZOFFSETTO:-0600
RDATE:20231105T020000
RDATE:20241103T020000
END:STANDARD
BEGIN:DAYLIGHT
TZNAME:CDT
DTSTART:20230312T020000
TZOFFSETFROM:-0600
TZOFFSETTO:-0500
RDATE:20240310T020000
END:DAYLIGHT
END:VTIMEZONE
BEGIN:VEVENT
UID:8e3c1a9a-2d16-4bad-b4ae-c13f52fd78eb
DTSTAMP:20260424T185449Z
DESCRIPTION:Summer Camp hours for US\, June 5th- 30th/ July 5th-July 28th\;
  8:00-12:00 (pickup no later than 12:15 at the flagpole)\; LS/MS same days
 \, hours 8:00-3:00
DTSTART;TZID=America/Chicago:20230605T000000
DTEND;TZID=America/Chicago:20230630T235900
LOCATION:
SUMMARY:Summer Camp
END:VEVENT
END:VCALENDAR
